BEGIN:VCALENDAR
VERSION:2.0
PRODID:-//Duftboutique - ECPv6.14.2//NONSGML v1.0//EN
CALSCALE:GREGORIAN
METHOD:PUBLISH
X-WR-CALNAME:Duftboutique
X-ORIGINAL-URL:https://www.duftboutique.at
X-WR-CALDESC:Veranstaltungen für Duftboutique
REFRESH-INTERVAL;VALUE=DURATION:PT1H
X-Robots-Tag:noindex
X-PUBLISHED-TTL:PT1H
BEGIN:VTIMEZONE
TZID:Europe/Vienna
BEGIN:DAYLIGHT
TZOFFSETFROM:+0100
TZOFFSETTO:+0200
TZNAME:CEST
DTSTART:20260329T010000
END:DAYLIGHT
BEGIN:STANDARD
TZOFFSETFROM:+0200
TZOFFSETTO:+0100
TZNAME:CET
DTSTART:20261025T010000
END:STANDARD
END:VTIMEZONE
BEGIN:VEVENT
DTSTART;TZID=Europe/Vienna:20260425T090000
DTEND;TZID=Europe/Vienna:20260425T120000
DTSTAMP:20260426T003359
CREATED:20250730T082951Z
LAST-MODIFIED:20250730T082951Z
UID:24535-1777107600-1777118400@www.duftboutique.at
SUMMARY:Natürliche Hautpflege selber herstellen WORKSHOP 🌸
DESCRIPTION:Es ist eigentlich ganz einfach\, hat man es erst einmal gesehen! \nIch zeige dir wie man Hautpflege \n\n🌸Frei von Künstlichen Konservierungsstoffen\, Emulgatoren \, Duft und Farbstoffen\,\n🌸Voll mit wertvollen Rohstoffen und Inhalt Stoffen aus der Natur\,\n\neinfach\, selber herstellen kann. \nWir werden 4 Produkte zusammen machen die du dann mit heim nehmen kannst um hautnah zu erleben wie toll sie sich anfühlen. \nDauer: 2\,5-3 Stunden \nWo? Frauental \, genauer Ort wird noch bekannt gegeben. \nBeitrag: 75\,- inkl. Unterlagen und Material
URL:https://www.duftboutique.at/veranstaltung/natuerliche-hautpflege-selber-herstellen-workshop-%f0%9f%8c%b8/
LOCATION:Steiermark
ATTACH;FMTTYPE=image/jpeg:https://www.duftboutique.at/wp-content/uploads/2023/01/duftboutique-creme-0001.jpg
ORGANIZER;CN="Alexandra Koch":MAILTO:alexandra@duftboutique.at
END:VEVENT
END:VCALENDAR